BEGIN:VCALENDAR
VERSION:2.0
PRODID:-//Goodleigh Parish Council//Meeting Calendar//EN
CALSCALE:GREGORIAN
METHOD:PUBLISH
BEGIN:VEVENT
UID:70432-20230905@goodleighparishcouncil.gov.uk
DTSTAMP:20260421T083447Z
DTSTART;VALUE=DATE:20230905
DTEND;VALUE=DATE:20230906
SUMMARY:Council Meeting 5 September 2023
DESCRIPTION:Full Council Meeting\nView details: https://goodleighparishcouncil.gov.uk/meetings/council-meeting-5-september-2023/
URL:https://goodleighparishcouncil.gov.uk/meetings/council-meeting-5-september-2023/
END:VEVENT
END:VCALENDAR
