BEGIN:VCALENDAR
VERSION:2.0
PRODID:-//Goodleigh Parish Council//Meeting Calendar//EN
CALSCALE:GREGORIAN
METHOD:PUBLISH
BEGIN:VEVENT
UID:70435-20231003@goodleighparishcouncil.gov.uk
DTSTAMP:20260421T083550Z
DTSTART;VALUE=DATE:20231003
DTEND;VALUE=DATE:20231004
SUMMARY:Council Meeting 3 October 2023
DESCRIPTION:Full Council Meeting\nView details: https://goodleighparishcouncil.gov.uk/meetings/council-meeting-3-october-2023/
URL:https://goodleighparishcouncil.gov.uk/meetings/council-meeting-3-october-2023/
END:VEVENT
END:VCALENDAR
