BEGIN:VCALENDAR
VERSION:2.0
PRODID:-//Goodleigh Parish Council//Meeting Calendar//EN
CALSCALE:GREGORIAN
METHOD:PUBLISH
BEGIN:VEVENT
UID:70438-20231205@goodleighparishcouncil.gov.uk
DTSTAMP:20260419T134646Z
DTSTART;VALUE=DATE:20231205
DTEND;VALUE=DATE:20231206
SUMMARY:Council Meeting 5 December 2023
DESCRIPTION:Full Council Meeting\nView details: https://goodleighparishcouncil.gov.uk/meetings/council-meeting-5-december-2023/
URL:https://goodleighparishcouncil.gov.uk/meetings/council-meeting-5-december-2023/
END:VEVENT
END:VCALENDAR
