BEGIN:VCALENDAR
VERSION:2.0
PRODID:-//Goodleigh Parish Council//Meeting Calendar//EN
CALSCALE:GREGORIAN
METHOD:PUBLISH
BEGIN:VEVENT
UID:70441-20240102@goodleighparishcouncil.gov.uk
DTSTAMP:20260421T100610Z
DTSTART;VALUE=DATE:20240102
DTEND;VALUE=DATE:20240103
SUMMARY:Council Meeting 2 January 2024
DESCRIPTION:Full Council Meeting\nView details: https://goodleighparishcouncil.gov.uk/meetings/council-meeting-2-january-2024/
URL:https://goodleighparishcouncil.gov.uk/meetings/council-meeting-2-january-2024/
END:VEVENT
END:VCALENDAR
