BEGIN:VCALENDAR
VERSION:2.0
PRODID:-//Goodleigh Parish Council//Meeting Calendar//EN
CALSCALE:GREGORIAN
METHOD:PUBLISH
BEGIN:VEVENT
UID:70450-20240402@goodleighparishcouncil.gov.uk
DTSTAMP:20260421T101705Z
DTSTART;VALUE=DATE:20240402
DTEND;VALUE=DATE:20240403
SUMMARY:Council Meeting 2 April 2024
DESCRIPTION:Full Council Meeting\nView details: https://goodleighparishcouncil.gov.uk/meetings/council-meeting-2-april-2024/
URL:https://goodleighparishcouncil.gov.uk/meetings/council-meeting-2-april-2024/
END:VEVENT
END:VCALENDAR
