BEGIN:VCALENDAR
VERSION:2.0
PRODID:-//Goodleigh Parish Council//Meeting Calendar//EN
CALSCALE:GREGORIAN
METHOD:PUBLISH
BEGIN:VEVENT
UID:70456-20240702@goodleighparishcouncil.gov.uk
DTSTAMP:20260419T215132Z
DTSTART;VALUE=DATE:20240702
DTEND;VALUE=DATE:20240703
SUMMARY:Council Meeting 2 July 2024
DESCRIPTION:Full Council Meeting\nView details: https://goodleighparishcouncil.gov.uk/meetings/council-meeting-2-july-2024/
URL:https://goodleighparishcouncil.gov.uk/meetings/council-meeting-2-july-2024/
END:VEVENT
END:VCALENDAR
