BEGIN:VCALENDAR
VERSION:2.0
PRODID:-//Goodleigh Parish Council//Meeting Calendar//EN
CALSCALE:GREGORIAN
METHOD:PUBLISH
BEGIN:VEVENT
UID:70459-20240806@goodleighparishcouncil.gov.uk
DTSTAMP:20260419T214854Z
DTSTART;VALUE=DATE:20240806
DTEND;VALUE=DATE:20240807
SUMMARY:Council Meeting 6 August 2024
DESCRIPTION:Full Council Meeting\nView details: https://goodleighparishcouncil.gov.uk/meetings/council-meeting-6-august-2024/
URL:https://goodleighparishcouncil.gov.uk/meetings/council-meeting-6-august-2024/
END:VEVENT
END:VCALENDAR
