BEGIN:VCALENDAR
VERSION:2.0
PRODID:-//Goodleigh Parish Council//Meeting Calendar//EN
CALSCALE:GREGORIAN
METHOD:PUBLISH
BEGIN:VEVENT
UID:70462-20240903@goodleighparishcouncil.gov.uk
DTSTAMP:20260419T233623Z
DTSTART;VALUE=DATE:20240903
DTEND;VALUE=DATE:20240904
SUMMARY:Council Meeting 3 September 2024
DESCRIPTION:Full Council Meeting\nView details: https://goodleighparishcouncil.gov.uk/meetings/council-meeting-3-september-2024/
URL:https://goodleighparishcouncil.gov.uk/meetings/council-meeting-3-september-2024/
END:VEVENT
END:VCALENDAR
