BEGIN:VCALENDAR
VERSION:2.0
PRODID:-//Goodleigh Parish Council//Meeting Calendar//EN
CALSCALE:GREGORIAN
METHOD:PUBLISH
BEGIN:VEVENT
UID:70489-20241105@goodleighparishcouncil.gov.uk
DTSTAMP:20260421T101623Z
DTSTART;VALUE=DATE:20241105
DTEND;VALUE=DATE:20241106
SUMMARY:Parish Council Meeting 5 November 2024
DESCRIPTION:Full Council Meeting\nView details: https://goodleighparishcouncil.gov.uk/meetings/parish-council-meeting-5-november-2024/
URL:https://goodleighparishcouncil.gov.uk/meetings/parish-council-meeting-5-november-2024/
END:VEVENT
END:VCALENDAR
