BEGIN:VCALENDAR
VERSION:2.0
PRODID:-//Goodleigh Parish Council//Meeting Calendar//EN
CALSCALE:GREGORIAN
METHOD:PUBLISH
BEGIN:VEVENT
UID:70492-20241203@goodleighparishcouncil.gov.uk
DTSTAMP:20260421T102049Z
DTSTART;VALUE=DATE:20241203
DTEND;VALUE=DATE:20241204
SUMMARY:Parish Council Meeting 3 December 2024
DESCRIPTION:Full Council Meeting\nView details: https://goodleighparishcouncil.gov.uk/meetings/parish-council-meeting-3-december-2024/
URL:https://goodleighparishcouncil.gov.uk/meetings/parish-council-meeting-3-december-2024/
END:VEVENT
END:VCALENDAR
