BEGIN:VCALENDAR
VERSION:2.0
PRODID:-//Goodleigh Parish Council//Meeting Calendar//EN
CALSCALE:GREGORIAN
METHOD:PUBLISH
BEGIN:VEVENT
UID:70512-20250107@goodleighparishcouncil.gov.uk
DTSTAMP:20260421T101952Z
DTSTART;VALUE=DATE:20250107
DTEND;VALUE=DATE:20250108
SUMMARY:Parish Council Meeting 7 January 2025
DESCRIPTION:Full Council Meeting\nView details: https://goodleighparishcouncil.gov.uk/meetings/parish-council-meeting-7-january-2025/
URL:https://goodleighparishcouncil.gov.uk/meetings/parish-council-meeting-7-january-2025/
END:VEVENT
END:VCALENDAR
