BEGIN:VCALENDAR
VERSION:2.0
PRODID:-//Goodleigh Parish Council//Meeting Calendar//EN
CALSCALE:GREGORIAN
METHOD:PUBLISH
BEGIN:VEVENT
UID:70522-20250204@goodleighparishcouncil.gov.uk
DTSTAMP:20260423T085211Z
DTSTART;VALUE=DATE:20250204
DTEND;VALUE=DATE:20250205
SUMMARY:Parish Council Meeting 4 February 2025
DESCRIPTION:Full Council Meeting\nView details: https://goodleighparishcouncil.gov.uk/meetings/parish-council-meeting-4-february-2025/
URL:https://goodleighparishcouncil.gov.uk/meetings/parish-council-meeting-4-february-2025/
END:VEVENT
END:VCALENDAR
