BEGIN:VCALENDAR
VERSION:2.0
PRODID:-//Goodleigh Parish Council//Meeting Calendar//EN
CALSCALE:GREGORIAN
METHOD:PUBLISH
BEGIN:VEVENT
UID:70526-20250304@goodleighparishcouncil.gov.uk
DTSTAMP:20260421T083634Z
DTSTART;VALUE=DATE:20250304
DTEND;VALUE=DATE:20250305
SUMMARY:Parish Council Meeting 4 March 2025
DESCRIPTION:Full Council Meeting\nView details: https://goodleighparishcouncil.gov.uk/meetings/parish-council-meeting-4-march-2025/
URL:https://goodleighparishcouncil.gov.uk/meetings/parish-council-meeting-4-march-2025/
END:VEVENT
END:VCALENDAR
