BEGIN:VCALENDAR
VERSION:2.0
PRODID:-//Goodleigh Parish Council//Meeting Calendar//EN
CALSCALE:GREGORIAN
METHOD:PUBLISH
BEGIN:VEVENT
UID:70536-20250401@goodleighparishcouncil.gov.uk
DTSTAMP:20260421T083631Z
DTSTART;VALUE=DATE:20250401
DTEND;VALUE=DATE:20250402
SUMMARY:Parish Council Meeting 1 April 2025
DESCRIPTION:Full Council Meeting\nView details: https://goodleighparishcouncil.gov.uk/meetings/parish-council-meeting-1-april-2025/
URL:https://goodleighparishcouncil.gov.uk/meetings/parish-council-meeting-1-april-2025/
END:VEVENT
END:VCALENDAR
