BEGIN:VCALENDAR
VERSION:2.0
PRODID:-//Goodleigh Parish Council//Meeting Calendar//EN
CALSCALE:GREGORIAN
METHOD:PUBLISH
BEGIN:VEVENT
UID:70585-20251104@goodleighparishcouncil.gov.uk
DTSTAMP:20260423T083857Z
DTSTART;VALUE=DATE:20251104
DTEND;VALUE=DATE:20251105
SUMMARY:Parish Council Meeting &#8211\\; 4th November 2025
DESCRIPTION:Full Council Meeting\nView details: https://goodleighparishcouncil.gov.uk/meetings/parish-council-meeting-4th-november-2025/
URL:https://goodleighparishcouncil.gov.uk/meetings/parish-council-meeting-4th-november-2025/
END:VEVENT
END:VCALENDAR
